BEGIN:VCALENDAR
VERSION:2.0
PRODID:-//MAGDRL - ECPv6.15.20//NONSGML v1.0//EN
CALSCALE:GREGORIAN
METHOD:PUBLISH
X-WR-CALNAME:MAGDRL
X-ORIGINAL-URL:https://www.magdrl.org
X-WR-CALDESC:Events for MAGDRL
REFRESH-INTERVAL;VALUE=DURATION:PT1H
X-Robots-Tag:noindex
X-PUBLISHED-TTL:PT1H
BEGIN:VTIMEZONE
TZID:America/New_York
BEGIN:DAYLIGHT
TZOFFSETFROM:-0500
TZOFFSETTO:-0400
TZNAME:EDT
DTSTART:20250309T070000
END:DAYLIGHT
BEGIN:STANDARD
TZOFFSETFROM:-0400
TZOFFSETTO:-0500
TZNAME:EST
DTSTART:20251102T060000
END:STANDARD
BEGIN:DAYLIGHT
TZOFFSETFROM:-0500
TZOFFSETTO:-0400
TZNAME:EDT
DTSTART:20260308T070000
END:DAYLIGHT
BEGIN:STANDARD
TZOFFSETFROM:-0400
TZOFFSETTO:-0500
TZNAME:EST
DTSTART:20261101T060000
END:STANDARD
BEGIN:DAYLIGHT
TZOFFSETFROM:-0500
TZOFFSETTO:-0400
TZNAME:EDT
DTSTART:20270314T070000
END:DAYLIGHT
BEGIN:STANDARD
TZOFFSETFROM:-0400
TZOFFSETTO:-0500
TZNAME:EST
DTSTART:20271107T060000
END:STANDARD
END:VTIMEZONE
BEGIN:VEVENT
DTSTART;TZID=America/New_York:20260109T150000
DTEND;TZID=America/New_York:20260109T200000
DTSTAMP:20260422T061835
CREATED:20251220T021539Z
LAST-MODIFIED:20251220T024029Z
UID:23284-1767970800-1767988800@www.magdrl.org
SUMMARY:Super Pet Expo
DESCRIPTION:FUN\nExciting edutainment for pet lovers​ \nShopping\nShop the best pet products from over 150+ local and national exhibitors \nPlay\nLeashed\, friendly pets are always welcome! \nAdoption\nMeet adoptable pets and speak with representatives from local rescue organizations to learn about the adoption process. \nEducation\nMeet and greet pet experts with a variety\nof specialties\, including training\, nutrition and health \nWHERE?\n\nNew Jersey Convention & Exposition Center\n97 Sunfield Ave.\nEdison\, NJ 08837
URL:https://www.magdrl.org/event/super-pet-expo-3/
LOCATION:New Jersey Convention & Exposition Center\, 97 Sunfield Ave\, Edison\, NJ\, 08837\, United States
CATEGORIES:NJ Events
ATTACH;FMTTYPE=image/png:https://www.magdrl.org/wp-content/uploads/2025/12/MAGDRL-Super-Pet-Expo-Feature-image.png
END:VEVENT
BEGIN:VEVENT
DTSTART;TZID=America/New_York:20260110T100000
DTEND;TZID=America/New_York:20260110T190000
DTSTAMP:20260422T061835
CREATED:20251220T021637Z
LAST-MODIFIED:20251220T024000Z
UID:23287-1768039200-1768071600@www.magdrl.org
SUMMARY:Super Pet Expo
DESCRIPTION:FUN\nExciting edutainment for pet lovers​ \nShopping\nShop the best pet products from over 150+ local and national exhibitors \nPlay\nLeashed\, friendly pets are always welcome! \nAdoption\nMeet adoptable pets and speak with representatives from local rescue organizations to learn about the adoption process. \nEducation\nMeet and greet pet experts with a variety\nof specialties\, including training\, nutrition and health \nWHERE?\n\nNew Jersey Convention & Exposition Center\n97 Sunfield Ave.\nEdison\, NJ 08837
URL:https://www.magdrl.org/event/super-pet-expo-4/
LOCATION:New Jersey Convention & Exposition Center\, 97 Sunfield Ave\, Edison\, NJ\, 08837\, United States
CATEGORIES:NJ Events
ATTACH;FMTTYPE=image/png:https://www.magdrl.org/wp-content/uploads/2025/12/MAGDRL-Super-Pet-Expo-Feature-image.png
END:VEVENT
BEGIN:VEVENT
DTSTART;TZID=America/New_York:20260111T100000
DTEND;TZID=America/New_York:20260111T170000
DTSTAMP:20260422T061835
CREATED:20251220T021724Z
LAST-MODIFIED:20251220T024055Z
UID:23289-1768125600-1768150800@www.magdrl.org
SUMMARY:Super Pet Expo
DESCRIPTION:FUN\nExciting edutainment for pet lovers​ \nShopping\nShop the best pet products from over 150+ local and national exhibitors \nPlay\nLeashed\, friendly pets are always welcome! \nAdoption\nMeet adoptable pets and speak with representatives from local rescue organizations to learn about the adoption process. \nEducation\nMeet and greet pet experts with a variety\nof specialties\, including training\, nutrition and health \nWHERE?\n\nNew Jersey Convention & Exposition Center\n97 Sunfield Ave.\nEdison\, NJ 08837
URL:https://www.magdrl.org/event/super-pet-expo-5/
LOCATION:New Jersey Convention & Exposition Center\, 97 Sunfield Ave\, Edison\, NJ\, 08837\, United States
CATEGORIES:NJ Events
ATTACH;FMTTYPE=image/png:https://www.magdrl.org/wp-content/uploads/2025/12/MAGDRL-Super-Pet-Expo-Feature-image.png
END:VEVENT
END:VCALENDAR