BEGIN:VCALENDAR
VERSION:2.0
PRODID:-//MAGDRL - ECPv6.15.20//NONSGML v1.0//EN
CALSCALE:GREGORIAN
METHOD:PUBLISH
X-WR-CALNAME:MAGDRL
X-ORIGINAL-URL:https://www.magdrl.org
X-WR-CALDESC:Events for MAGDRL
REFRESH-INTERVAL;VALUE=DURATION:PT1H
X-Robots-Tag:noindex
X-PUBLISHED-TTL:PT1H
BEGIN:VTIMEZONE
TZID:America/New_York
BEGIN:DAYLIGHT
TZOFFSETFROM:-0500
TZOFFSETTO:-0400
TZNAME:EDT
DTSTART:20250309T070000
END:DAYLIGHT
BEGIN:STANDARD
TZOFFSETFROM:-0400
TZOFFSETTO:-0500
TZNAME:EST
DTSTART:20251102T060000
END:STANDARD
BEGIN:DAYLIGHT
TZOFFSETFROM:-0500
TZOFFSETTO:-0400
TZNAME:EDT
DTSTART:20260308T070000
END:DAYLIGHT
BEGIN:STANDARD
TZOFFSETFROM:-0400
TZOFFSETTO:-0500
TZNAME:EST
DTSTART:20261101T060000
END:STANDARD
BEGIN:DAYLIGHT
TZOFFSETFROM:-0500
TZOFFSETTO:-0400
TZNAME:EDT
DTSTART:20270314T070000
END:DAYLIGHT
BEGIN:STANDARD
TZOFFSETFROM:-0400
TZOFFSETTO:-0500
TZNAME:EST
DTSTART:20271107T060000
END:STANDARD
END:VTIMEZONE
BEGIN:VEVENT
DTSTART;TZID=America/New_York:20260502T120000
DTEND;TZID=America/New_York:20260502T150000
DTSTAMP:20260422T184242
CREATED:20260309T170451Z
LAST-MODIFIED:20260318T222013Z
UID:28224-1777723200-1777734000@www.magdrl.org
SUMMARY:Petco in Piscataway Meet & Greet
DESCRIPTION:Come meet some gentle giants!\nJoin us for a Great Dane Meet & Greet at Petco in Piscataway\, where you’ll have a chance to meet a few of our wonderful ambassador Danes and learn more about the breed and the work our rescue does.\nIt’s a great chance to say hello\, spend a little time with these amazing dogs.\nOur volunteers will be happy to answer questions and chat about life with Great Danes.   Whether you’re a longtime Dane fan or just curious about these big\, lovable dogs\, we’d love to meet you.\nCome by\, say hi\, and get to know some wonderful Danes!
URL:https://www.magdrl.org/event/petco-in-piscataway-meet-greet/
LOCATION:Petco – Piscataway\, 1333 Centennial Ave.\, Piscataway\, NJ\, 08854\, United States
CATEGORIES:NJ Events
ATTACH;FMTTYPE=image/png:https://www.magdrl.org/wp-content/uploads/2026/03/MAGDRL-Feature-image-Petco-6.png
END:VEVENT
BEGIN:VEVENT
DTSTART;TZID=America/New_York:20260515T180000
DTEND;TZID=America/New_York:20260515T210000
DTSTAMP:20260422T184242
CREATED:20260422T180034Z
LAST-MODIFIED:20260422T184452Z
UID:68124-1778868000-1778878800@www.magdrl.org
SUMMARY:Colonia Dairy Maid Ice Cream Meet & Greet
DESCRIPTION:  \nJoin us for a sweet meet & greet! 🍦🐾\nCome hang out with our Great Danes\, learn more about the rescue\, and enjoy a treat while you’re at it.  Our ambassador Danes will be there soaking up attention and showing off just how wonderful these gentle giants are. \nBring the kids\, bring your questions\, and bring your love for dogs—we’d love to see you there! \n 
URL:https://www.magdrl.org/event/colonia-dairy-maid-ice-cream-meet-greet/
LOCATION:Dairy Maid – Colonia\, 1075 Saint Georges Ave.\, Colonia\, NJ\, 07067\, United States
CATEGORIES:NJ Events
ATTACH;FMTTYPE=image/png:https://www.magdrl.org/wp-content/uploads/2026/04/MAGDRL-Feature-Image-Colonial-1.png
END:VEVENT
BEGIN:VEVENT
DTSTART;TZID=America/New_York:20260526T160000
DTEND;TZID=America/New_York:20260526T210000
DTSTAMP:20260422T184242
CREATED:20260314T204624Z
LAST-MODIFIED:20260331T170154Z
UID:28524-1779811200-1779829200@www.magdrl.org
SUMMARY:Bark in the Park *Somerset Patriots* Game
DESCRIPTION:Bring your dog to the ballpark for one of our Bark in the Park Nights.\nGames include:\nPre-game Pooch Parade around the warning track of the field\nProfessional pet photographs on the concourse\n“Yappy Hour” hang out during the game\nWater stations available on concourse\nEngage with pet-related vendors and organizations\nOpportunity to be chosen for in-game promotions\nDogs do not require a ticket
URL:https://www.magdrl.org/event/bark-in-the-park-somerset-patriots-game-2/
LOCATION:TD Bank Ball Park\, 1 Patriots Park\, Bridgewater Township\, NJ\, 08807\, United States
CATEGORIES:NJ Events
ATTACH;FMTTYPE=image/png:https://www.magdrl.org/wp-content/uploads/2026/03/Copy-of-MAGDRL-feature-image-Somerset-Patriots-2.png
END:VEVENT
BEGIN:VEVENT
DTSTART;TZID=America/New_York:20260606T120000
DTEND;TZID=America/New_York:20260606T150000
DTSTAMP:20260422T184242
CREATED:20260309T182728Z
LAST-MODIFIED:20260331T154257Z
UID:28229-1780747200-1780758000@www.magdrl.org
SUMMARY:Petco of Piscataway Meet & Greet
DESCRIPTION:Great Dane Meet & Greet\nStop by and meet some gentle giants!\nWe’ll be at the Petco in Piscataway with a few of our Great Dane ambassadors for a casual Meet & Greet.  It’s a great chance to say hello\, spend a little time with these amazing dogs\, and learn more about the breed and the work our rescue does.   Bring the kids—they love meeting these big\, friendly dogs!\nOur volunteers will be happy to answer questions and chat about life with Great Danes.  Whether you’re a longtime Dane fan or just curious about these big\, lovable dogs\, we’d love to meet you.\nCome by\, say hi\, and get to know some wonderful Danes!
URL:https://www.magdrl.org/event/petco-of-piscataway-meet-greet-2/
LOCATION:Petco – Piscataway\, 1333 Centennial Ave.\, Piscataway\, NJ\, 08854\, United States
CATEGORIES:NJ Events
ATTACH;FMTTYPE=image/png:https://www.magdrl.org/wp-content/uploads/2026/03/MAGDRL-Feature-Image-Petco-3-1.png
END:VEVENT
BEGIN:VEVENT
DTSTART;TZID=America/New_York:20260619T180000
DTEND;TZID=America/New_York:20260619T210000
DTSTAMP:20260422T184242
CREATED:20260422T184253Z
LAST-MODIFIED:20260422T184253Z
UID:68128-1781892000-1781902800@www.magdrl.org
SUMMARY:Colonia Dairy Maid Ice Cream Meet & Greet
DESCRIPTION:Join us for an ice cream meet & greet! 🍦🐾Stop by\, enjoy a treat\, and spend some time with our Great Danes. Our ambassador dogs will be there making new friends and showing off their sweet personalities.We’d love to see you—bring the family and say hello!
URL:https://www.magdrl.org/event/colonia-dairy-maid-ice-cream-meet-greet-2/
LOCATION:Dairy Maid – Colonia\, 1075 Saint Georges Ave.\, Colonia\, NJ\, 07067\, United States
CATEGORIES:NJ Events
ATTACH;FMTTYPE=image/png:https://www.magdrl.org/wp-content/uploads/2026/04/MAGDRL-Feature-Image-Colonia-2.png
END:VEVENT
BEGIN:VEVENT
DTSTART;TZID=America/New_York:20260620T120000
DTEND;TZID=America/New_York:20260620T160000
DTSTAMP:20260422T184242
CREATED:20260113T220120Z
LAST-MODIFIED:20260310T025635Z
UID:26144-1781956800-1781971200@www.magdrl.org
SUMMARY:Henway Hard Cider Pups Day Out
DESCRIPTION:  Meet & Greet + Pups Day Out at Henway Hard Cider  \nJoin us for a fun afternoon with MAGDRL at Henway Hard Cider for a Pups Day Out – Meet and Greet!\n Saturday\, June 20\n 12:00–4:00 PM\n Henway Hard Cider\n18780 Foggy Bottom Rd\, Bluemont\, VA\nCome hang out\, grab some delicious food and drinks\, and meet our amazing Great Danes who are looking for foster and forever homes. This is a relaxed\, casual event—perfect for getting to know the dogs\, chatting with volunteers\, and learning more about fostering or adopting. \nEven if you’re just curious or want to support rescue\, we’d love to see you there. Bring your friends\, enjoy the vibes\, and help us show these gentle giants some love 
URL:https://www.magdrl.org/event/henway-hard-cider-pups-day-out/
LOCATION:Henway Hard Cider\, 18780 Foggy Bottom Rd.\, Bluemont\, VA\, United States
CATEGORIES:VA Events
ATTACH;FMTTYPE=image/png:https://www.magdrl.org/wp-content/uploads/2026/01/MAGDRL-Feature-Image-Henway-Hard-Cider-2.png
END:VEVENT
BEGIN:VEVENT
DTSTART;TZID=America/New_York:20260711T120000
DTEND;TZID=America/New_York:20260711T150000
DTSTAMP:20260422T184242
CREATED:20260309T190408Z
LAST-MODIFIED:20260324T202455Z
UID:28235-1783771200-1783782000@www.magdrl.org
SUMMARY:Petco of Piscataway Meet & Greet
DESCRIPTION:Great Dane Meet & Greet\nCome meet some gentle giants!\nJoin us for a Great Dane Meet & Greet at Petco of Piscataway\, where you’ll have a chance to meet a few of our wonderful ambassador Danes and learn more about the breed and the work our rescue does.\nOur volunteers will be there to answer questions\, talk about Great Dane care\, and share information about our rescue. Whether you’re a longtime Dane lover or just curious about these amazing dogs\, we’d love to see you.   Bring the kids—they love meeting these big\, friendly dogs!\nStop by\, say hello\, and spend a little time with some truly big personalities!\nWe look forward to meeting you!\n 
URL:https://www.magdrl.org/event/petco-of-piscataway-meet-greet-3/
LOCATION:Petco – Piscataway\, 1333 Centennial Ave.\, Piscataway\, NJ\, 08854\, United States
CATEGORIES:NJ Events
ATTACH;FMTTYPE=image/png:https://www.magdrl.org/wp-content/uploads/2026/03/MAGDRL-feature-image-Petco-5.png
END:VEVENT
BEGIN:VEVENT
DTSTART;TZID=America/New_York:20260717T180000
DTEND;TZID=America/New_York:20260717T210000
DTSTAMP:20260422T184242
CREATED:20260422T194533Z
LAST-MODIFIED:20260422T195458Z
UID:68132-1784311200-1784322000@www.magdrl.org
SUMMARY:Colonia Dairy Maid Ice Cream Meet & Greet
DESCRIPTION:Ice cream + Great Danes = a pretty perfect day 🍦🐾Come meet some of our gentle giants\, learn about the rescue\, and grab something sweet while you’re here.All are welcome—especially kids and dog lovers!
URL:https://www.magdrl.org/event/colonia-dairy-maid-ice-cream-meet-greet-3/
LOCATION:Dairy Maid – Colonia\, 1075 Saint Georges Ave.\, Colonia\, NJ\, 07067\, United States
CATEGORIES:NJ Events
ATTACH;FMTTYPE=image/png:https://www.magdrl.org/wp-content/uploads/2026/04/MAGDRL-Feature-Image-Colonia-3.png
END:VEVENT
BEGIN:VEVENT
DTSTART;TZID=America/New_York:20260801T120000
DTEND;TZID=America/New_York:20260801T150000
DTSTAMP:20260422T184242
CREATED:20260318T222430Z
LAST-MODIFIED:20260331T160421Z
UID:28600-1785585600-1785596400@www.magdrl.org
SUMMARY:Petco of Piscataway Meet & Greet
DESCRIPTION:Great Dane Meet & Greet\nStop by and meet some gentle giants!\nWe’ll be at the Petco in Piscataway with a few of our Great Dane ambassadors for a casual Meet & Greet.  It’s a great chance to say hello\, spend a little time with these amazing dogs\, and learn more about the breed and the work our rescue does.   Bring the kids—they love meeting these big\, friendly dogs!\nOur volunteers will be happy to answer questions and chat about life with Great Danes.  Whether you’re a longtime Dane fan or just curious about these big\, lovable dogs\, we’d love to meet you.\nCome by\, say hi\, and get to know some wonderful Danes!
URL:https://www.magdrl.org/event/petco-of-piscataway-meet-greet-4/
LOCATION:Petco – Piscataway\, 1333 Centennial Ave.\, Piscataway\, NJ\, 08854\, United States
CATEGORIES:NJ Events
ATTACH;FMTTYPE=image/png:https://www.magdrl.org/wp-content/uploads/2026/03/MAGDRL-Feature-image-Petco-4-1.png
END:VEVENT
BEGIN:VEVENT
DTSTART;TZID=America/New_York:20260814T180000
DTEND;TZID=America/New_York:20260814T210000
DTSTAMP:20260422T184242
CREATED:20260422T213712Z
LAST-MODIFIED:20260422T222029Z
UID:68136-1786730400-1786741200@www.magdrl.org
SUMMARY:Colonia Dairy Maid Ice Cream Meet & Greet
DESCRIPTION:Come visit us for a relaxed meet & greet at Colonia Dairy Maid Ice Cream Shop! 🍦🐾Meet our Great Danes\, chat with our volunteers\, and learn more about the work we do.It’s a great chance to connect\, ask questions\, and enjoy a treat together.
URL:https://www.magdrl.org/event/colonia-dairy-maid-ice-cream-meet-greet-4/
LOCATION:Dairy Maid – Colonia\, 1075 Saint Georges Ave.\, Colonia\, NJ\, 07067\, United States
CATEGORIES:NJ Events
ATTACH;FMTTYPE=image/png:https://www.magdrl.org/wp-content/uploads/2026/04/MAGDRL-Feature-Image-Colonia-4.png
END:VEVENT
BEGIN:VEVENT
DTSTART;TZID=America/New_York:20260905T120000
DTEND;TZID=America/New_York:20260905T150000
DTSTAMP:20260422T184242
CREATED:20260326T184910Z
LAST-MODIFIED:20260331T142555Z
UID:28811-1788609600-1788620400@www.magdrl.org
SUMMARY:Petco Meet & Greet in Piscataway
DESCRIPTION:Come meet some gentle giants!\nJoin us for a Great Dane Meet & Greet at Petco in Piscataway\, where you’ll have a chance to meet a few of our wonderful ambassador Danes and learn more about the breed and the work our rescue does.\nIt’s a great chance to say hello\, spend a little time with these amazing dogs.\nOur volunteers will be happy to answer questions and chat about life with Great Danes.   Whether you’re a longtime Dane fan or just curious about these big\, lovable dogs\, we’d love to meet you.\nCome by\, say hi\, and get to know some wonderful Danes!
URL:https://www.magdrl.org/event/petco-meet-greet-in-piscataway/
LOCATION:Petco – Piscataway\, 1333 Centennial Ave.\, Piscataway\, NJ\, 08854\, United States
CATEGORIES:NJ Events
ATTACH;FMTTYPE=image/png:https://www.magdrl.org/wp-content/uploads/2026/03/Copy-of-MAGDRL-feature-image-petco-fall-1.png
END:VEVENT
BEGIN:VEVENT
DTSTART;TZID=America/New_York:20260908T160000
DTEND;TZID=America/New_York:20260908T210000
DTSTAMP:20260422T184242
CREATED:20260314T205525Z
LAST-MODIFIED:20260331T181243Z
UID:28535-1788883200-1788901200@www.magdrl.org
SUMMARY:Bark in the Park *Somerset Patriots* Game
DESCRIPTION:Bring your dog to the ballpark for one of our Bark in the Park Nights.\nGames include:\nPre-game Pooch Parade around the warning track of the field\nProfessional pet photographs on the concourse\n“Yappy Hour” hang out during the game\nWater stations available on concourse\nEngage with pet-related vendors and organizations\nOpportunity to be chosen for in-game promotions\nDogs do not require a ticket
URL:https://www.magdrl.org/event/bark-in-the-park-somerset-patriots-game-3/
LOCATION:TD Bank Ball Park\, 1 Patriots Park\, Bridgewater Township\, NJ\, 08807\, United States
CATEGORIES:NJ Events
ATTACH;FMTTYPE=image/png:https://www.magdrl.org/wp-content/uploads/2026/03/MAGDRL-feature-image-Somerset-Patriots-3.png
END:VEVENT
BEGIN:VEVENT
DTSTART;TZID=America/New_York:20261003T120000
DTEND;TZID=America/New_York:20261003T150000
DTSTAMP:20260422T184242
CREATED:20260326T185316Z
LAST-MODIFIED:20260331T145059Z
UID:28815-1791028800-1791039600@www.magdrl.org
SUMMARY:Petco in Piscataway Meet & Greet
DESCRIPTION:Great Dane Meet & Greet\nStop by and meet some gentle giants!\nWe’ll be at the Petco in Piscataway with a few of our Great Dane ambassadors for a casual Meet & Greet.  It’s a great chance to say hello\, spend a little time with these amazing dogs\, and learn more about the breed and the work our rescue does.   Bring the kids—they love meeting these big\, friendly dogs!\nOur volunteers will be happy to answer questions and chat about life with Great Danes.  Whether you’re a longtime Dane fan or just curious about these big\, lovable dogs\, we’d love to meet you.\nCome by\, say hi\, and get to know some wonderful Danes!
URL:https://www.magdrl.org/event/petco-in-piscataway-meet-greet-2/
LOCATION:Petco – Piscataway\, 1333 Centennial Ave.\, Piscataway\, NJ\, 08854\, United States
CATEGORIES:NJ Events
ATTACH;FMTTYPE=image/png:https://www.magdrl.org/wp-content/uploads/2026/03/MAGDRL-feature-image-petco-fall-2-2.png
END:VEVENT
BEGIN:VEVENT
DTSTART;TZID=America/New_York:20261107T120000
DTEND;TZID=America/New_York:20261107T150000
DTSTAMP:20260422T184242
CREATED:20260326T190132Z
LAST-MODIFIED:20260331T150230Z
UID:28821-1794052800-1794063600@www.magdrl.org
SUMMARY:Petco in Piscataway Meet & Greet
DESCRIPTION:Join us for a Great Dane Meet & Greet at Petco in Piscataway\, where you’ll have a chance to meet a few of our wonderful ambassador Danes and learn more about the breed and the work our rescue does.\nIt’s a great chance to say hello\, spend a little time with these amazing dogs.\nOur volunteers will be happy to answer questions and chat about life with Great Danes.   Whether you’re a longtime Dane fan or just curious about these big\, lovable dogs\, we’d love to meet you.\nCome by\, say hi\, and get to know some wonderful Danes!
URL:https://www.magdrl.org/event/petco-in-piscataway-meet-greet-3/
LOCATION:Petco – Piscataway\, 1333 Centennial Ave.\, Piscataway\, NJ\, 08854\, United States
CATEGORIES:NJ Events
ATTACH;FMTTYPE=image/png:https://www.magdrl.org/wp-content/uploads/2026/03/MAGDRL-feature-image-petco-late-fall-1-1.png
END:VEVENT
BEGIN:VEVENT
DTSTART;TZID=America/New_York:20261205T120000
DTEND;TZID=America/New_York:20261205T150000
DTSTAMP:20260422T184242
CREATED:20260326T192425Z
LAST-MODIFIED:20260331T151017Z
UID:28826-1796472000-1796482800@www.magdrl.org
SUMMARY:Petco of Piscataway Meet & Greet
DESCRIPTION:Great Dane Meet & Greet\nStop by and meet some gentle giants!\nWe’ll be at Petco in Piscataway with a few of our Great Dane ambassadors for a casual Meet & Greet. It’s a great chance to say hello\, spend a little time with these amazing dogs\, and learn more about the breed and the work our rescue does.\nOur volunteers will be happy to answer questions and chat about life with Great Danes. Whether you’re a longtime Dane fan or just curious about these big\, lovable dogs\, we’d love to meet you.\nCome by\, say hi\, and get to know some wonderful Danes!
URL:https://www.magdrl.org/event/petco-of-piscataway-meet-greet-5/
LOCATION:Petco – Piscataway\, 1333 Centennial Ave.\, Piscataway\, NJ\, 08854\, United States
CATEGORIES:NJ Events
ATTACH;FMTTYPE=image/png:https://www.magdrl.org/wp-content/uploads/2026/03/MAGDRL-feature-image-petco-holiday-1-1.png
END:VEVENT
END:VCALENDAR