BEGIN:VCALENDAR
VERSION:2.0
PRODID:-//MAGDRL - ECPv6.15.20//NONSGML v1.0//EN
CALSCALE:GREGORIAN
METHOD:PUBLISH
X-ORIGINAL-URL:https://www.magdrl.org
X-WR-CALDESC:Events for MAGDRL
REFRESH-INTERVAL;VALUE=DURATION:PT1H
X-Robots-Tag:noindex
X-PUBLISHED-TTL:PT1H
BEGIN:VTIMEZONE
TZID:America/New_York
BEGIN:DAYLIGHT
TZOFFSETFROM:-0500
TZOFFSETTO:-0400
TZNAME:EDT
DTSTART:20240310T070000
END:DAYLIGHT
BEGIN:STANDARD
TZOFFSETFROM:-0400
TZOFFSETTO:-0500
TZNAME:EST
DTSTART:20241103T060000
END:STANDARD
BEGIN:DAYLIGHT
TZOFFSETFROM:-0500
TZOFFSETTO:-0400
TZNAME:EDT
DTSTART:20250309T070000
END:DAYLIGHT
BEGIN:STANDARD
TZOFFSETFROM:-0400
TZOFFSETTO:-0500
TZNAME:EST
DTSTART:20251102T060000
END:STANDARD
BEGIN:DAYLIGHT
TZOFFSETFROM:-0500
TZOFFSETTO:-0400
TZNAME:EDT
DTSTART:20260308T070000
END:DAYLIGHT
BEGIN:STANDARD
TZOFFSETFROM:-0400
TZOFFSETTO:-0500
TZNAME:EST
DTSTART:20261101T060000
END:STANDARD
END:VTIMEZONE
BEGIN:VEVENT
DTSTART;TZID=America/New_York:20251128T080000
DTEND;TZID=America/New_York:20251225T233000
DTSTAMP:20260420T153313
CREATED:20251202T161115Z
LAST-MODIFIED:20251202T161115Z
UID:21066-1764316800-1766705400@www.magdrl.org
SUMMARY:WV Chapter Secret Santa
DESCRIPTION:BLACK FRIDAY KICKS OFF SECRET SANTA FOR DANES! \nFrom November 28 thru December 25th\nOur Mid-Atlantic Great Dane Rescue League (MAGDRL) WV Chapter fosters open their homes — and their hearts — all year long. This holiday season\, we’re asking our supporters to help sprinkle a little magic their way. \nEvery gift from our Secret Santa wish lists supports:\n The Danes currently in our care\n The foster families who love and heal them\n The next gentle giant who needs a safe place \n All gifts ship directly through Amazon for safety and convenience. \n How to help:\nChoose a foster family below and send a Secret Santa surprise!\n(If you’re on your phone and can’t scan the QR code in the flyer\, you can type the short link instead.) \n Erin & James: https://bit.ly/MAGDRL-EJ\n Ella & Chad: https://bit.ly/MAGDRL-EC\n Jessica & David: https://bit.ly/MAGDRL-JD \nYour kindness keeps our WV Danes warm\, fed\, and feeling loved all winter long. Thank you for supporting the families who support our giants. 
URL:https://www.magdrl.org/event/wv-chapter-secret-santa/
LOCATION:NJ
CATEGORIES:WV Events
ATTACH;FMTTYPE=image/jpeg:https://www.magdrl.org/wp-content/uploads/2021/12/2021_11_AthenaRIP_web.jpg
END:VEVENT
BEGIN:VEVENT
DTSTART;TZID=America/New_York:20251206T100000
DTEND;TZID=America/New_York:20251206T140000
DTSTAMP:20260420T153313
CREATED:20251202T170930Z
LAST-MODIFIED:20251202T172703Z
UID:21077-1765015200-1765029600@www.magdrl.org
SUMMARY:Meet & Greet at Cabelas\, Tilden Ridge\, Hamburg\, PA
DESCRIPTION:We will be celebrating with Santa on Saturday Dec. 6 at Cabela’s\, Tilden Ridge\, Hamburg\, Pa.  Come meet some of our gentle giants and learn more about Mid-Atlantic Great Dane Rescue League!We’re teaming up with Cabela’s for a meet & greet event.  Our volunteers—and of course\, a few of our ambassador Great Danes — will be there to say hello\, share information about our rescue work\, and answer any questions you may have about adoption\, volunteering\, or how to support the Danes in need.  Whether you’re a longtime Dane lover or just curious about the breed\, we’d love for you to stop by and say hi!\nBig dogs\, big hearts — come see for yourself!\nWe’ll be in the store by the pond.  Our Dane Ambassadors are loveable and too cute to be ignored!
URL:https://www.magdrl.org/event/meet-greet-at-cabelas-tilden-ridge-hamburg-pa/
LOCATION:Cabela’s Tilden Ridge\, Hamburg\, 100 Cabela Drive\, Hamburg\, PA\, 19526\, United States
CATEGORIES:PA Events
ATTACH;FMTTYPE=image/png:https://www.magdrl.org/wp-content/uploads/2025/12/Copy-of-MAGDRL-feature-image-Holiday-24-Santa.png
END:VEVENT
BEGIN:VEVENT
DTSTART;TZID=America/New_York:20251206T110000
DTEND;TZID=America/New_York:20251206T180000
DTSTAMP:20260420T153313
CREATED:20251111T175453Z
LAST-MODIFIED:20251111T183351Z
UID:19776-1765018800-1765044000@www.magdrl.org
SUMMARY:Christmas on Main!
DESCRIPTION:Join Us for a Festive Day of Holiday Fun at the Martinsburg Christmas on Main! \nCelebrate the season with live Christmas music\, delicious food trucks\, the Naughty & Nice Bar\, a cheerful Christmas Market\, downtown shopping and dining\, free kids’ activities\, Santa Claus\, and so much more! \nBe sure to stop by the MAGDRL booth to meet our lovable Great Danes and browse our collection of unique\, Dane-themed Christmas gifts — perfect for the dog lovers on your list! \nEvent by Main Street Martinsburg\n142 North Queen St\, Martinsburg\, WV 25401-3312\nOpen to the Public\nMark your calendars—Christmas on Main is just around the corner! \nJoin us in downtown Martinsburg on December 6th\, 2025\, for a festive day filled with Christmas fun for everyone!\n Live Christmas music \n Delicious Food Trucks \n Christmas Market \n Downtown Holiday Shopping & Eats! \n Kids’ activities \n Santa Claus    \n2025 Tree Lighting Ceremony from 5pm-6pm \n& so much more! \nStart a new holiday tradition\, create lasting memories\, and celebrate the season with us downtown on December 6th!
URL:https://www.magdrl.org/event/christmas-on-main/
LOCATION:NJ
CATEGORIES:WV Events
ATTACH;FMTTYPE=image/png:https://www.magdrl.org/wp-content/uploads/2025/11/MAGDRL-Christmas-on-Main-Feature-Image.png
ORGANIZER;CN="Karen Freeland":MAILTO:wv@magdrl.org
END:VEVENT
END:VCALENDAR